BEGIN:VCALENDAR
VERSION:2.0
PRODID:-//F&Ouml;&Ouml;NI - ECPv6.15.20//NONSGML v1.0//EN
CALSCALE:GREGORIAN
METHOD:PUBLISH
X-WR-CALNAME:F&Ouml;&Ouml;NI
X-ORIGINAL-URL:https://www.xn--fni-snaa.fi/en
X-WR-CALDESC:Events for F&Ouml;&Ouml;NI
REFRESH-INTERVAL;VALUE=DURATION:PT1H
X-Robots-Tag:noindex
X-PUBLISHED-TTL:PT1H
BEGIN:VTIMEZONE
TZID:Europe/Helsinki
BEGIN:DAYLIGHT
TZOFFSETFROM:+0200
TZOFFSETTO:+0300
TZNAME:EEST
DTSTART:20230326T010000
END:DAYLIGHT
BEGIN:STANDARD
TZOFFSETFROM:+0300
TZOFFSETTO:+0200
TZNAME:EET
DTSTART:20231029T010000
END:STANDARD
BEGIN:DAYLIGHT
TZOFFSETFROM:+0200
TZOFFSETTO:+0300
TZNAME:EEST
DTSTART:20240331T010000
END:DAYLIGHT
BEGIN:STANDARD
TZOFFSETFROM:+0300
TZOFFSETTO:+0200
TZNAME:EET
DTSTART:20241027T010000
END:STANDARD
BEGIN:DAYLIGHT
TZOFFSETFROM:+0200
TZOFFSETTO:+0300
TZNAME:EEST
DTSTART:20250330T010000
END:DAYLIGHT
BEGIN:STANDARD
TZOFFSETFROM:+0300
TZOFFSETTO:+0200
TZNAME:EET
DTSTART:20251026T010000
END:STANDARD
END:VTIMEZONE
BEGIN:VEVENT
DTSTART;TZID=Europe/Helsinki:20240925T180000
DTEND;TZID=Europe/Helsinki:20240925T210000
DTSTAMP:20260419T181329
CREATED:20240922T134614Z
LAST-MODIFIED:20240923T090338Z
UID:6471-1727287200-1727298000@www.xn--fni-snaa.fi
SUMMARY:Selkälento workshop
DESCRIPTION:Tule treenaamaan selkälennon saloja porukassa. Tämä workshop sopii hyvin kaikille ketä kiinnostaa selkälennon salat. Olit sitten vasta treenaamassa selkälentoa tai vanha tekijä selkälennossa. Treenejä parien kanssa ja opetellaan harjoituksia mitä pystyy jatkossa tekemään myös yksin. Jälkibriiffi videoilla ja iltapalapizzalla. \nIlmoittautumiset emailillä info@lentotehdas.fi
URL:https://www.xn--fni-snaa.fi/en/tapahtuma/selkalento-workshop/
LOCATION:Fööni\, Hermannin rantatie 11\, Helsinki\, 00580\, Finland
CATEGORIES:Workshopit
END:VEVENT
END:VCALENDAR