BEGIN:VCALENDAR
VERSION:2.0
PRODID:-//F&Ouml;&Ouml;NI - ECPv6.15.20//NONSGML v1.0//EN
CALSCALE:GREGORIAN
METHOD:PUBLISH
X-WR-CALNAME:F&Ouml;&Ouml;NI
X-ORIGINAL-URL:https://www.xn--fni-snaa.fi
X-WR-CALDESC:Events for F&Ouml;&Ouml;NI
REFRESH-INTERVAL;VALUE=DURATION:PT1H
X-Robots-Tag:noindex
X-PUBLISHED-TTL:PT1H
BEGIN:VTIMEZONE
TZID:Europe/Helsinki
BEGIN:DAYLIGHT
TZOFFSETFROM:+0200
TZOFFSETTO:+0300
TZNAME:EEST
DTSTART:20230326T010000
END:DAYLIGHT
BEGIN:STANDARD
TZOFFSETFROM:+0300
TZOFFSETTO:+0200
TZNAME:EET
DTSTART:20231029T010000
END:STANDARD
BEGIN:DAYLIGHT
TZOFFSETFROM:+0200
TZOFFSETTO:+0300
TZNAME:EEST
DTSTART:20240331T010000
END:DAYLIGHT
BEGIN:STANDARD
TZOFFSETFROM:+0300
TZOFFSETTO:+0200
TZNAME:EET
DTSTART:20241027T010000
END:STANDARD
BEGIN:DAYLIGHT
TZOFFSETFROM:+0200
TZOFFSETTO:+0300
TZNAME:EEST
DTSTART:20250330T010000
END:DAYLIGHT
BEGIN:STANDARD
TZOFFSETFROM:+0300
TZOFFSETTO:+0200
TZNAME:EET
DTSTART:20251026T010000
END:STANDARD
END:VTIMEZONE
BEGIN:VEVENT
DTSTART;TZID=Europe/Helsinki:20240919T183000
DTEND;TZID=Europe/Helsinki:20240919T210000
DTSTAMP:20260419T225940
CREATED:20240909T141530Z
LAST-MODIFIED:20240909T141530Z
UID:6002-1726770600-1726779600@www.xn--fni-snaa.fi
SUMMARY:Juhon Synttärijamit :)
DESCRIPTION:Synttärijamit by Juho!\nNyt on ihan parasta ja hauskinta vetämistä tarjolla 🙂 Ja synttäriyllätystä luvassa tietenkin.\n80€ sis. juoman tai varusteet \nIlmoittautumiset info@lentotehdas.fi
URL:https://www.xn--fni-snaa.fi/tapahtuma/juhon-synttarijamit/
CATEGORIES:Huckjamit
ATTACH;FMTTYPE=image/jpeg:https://www.xn--fni-snaa.fi/wp-content/uploads/2024/09/IMG_1239.jpeg
END:VEVENT
END:VCALENDAR